BEGIN:VCALENDAR
VERSION:2.0
PRODID:-//Easton Farmers&#039; Market - ECPv6.15.18//NONSGML v1.0//EN
CALSCALE:GREGORIAN
METHOD:PUBLISH
X-ORIGINAL-URL:https://eastonfarmersmarket.com
X-WR-CALDESC:Events for Easton Farmers&#039; Market
REFRESH-INTERVAL;VALUE=DURATION:PT1H
X-Robots-Tag:noindex
X-PUBLISHED-TTL:PT1H
BEGIN:VTIMEZONE
TZID:UTC
BEGIN:STANDARD
TZOFFSETFROM:+0000
TZOFFSETTO:+0000
TZNAME:UTC
DTSTART:20210101T000000
END:STANDARD
END:VTIMEZONE
BEGIN:VEVENT
DTSTART;VALUE=DATE:20220101
DTEND;VALUE=DATE:20220102
DTSTAMP:20260421T215214
CREATED:20201117T211845Z
LAST-MODIFIED:20220212T022442Z
UID:7562-1640995200-1641081599@eastonfarmersmarket.com
SUMMARY:Market Closed
DESCRIPTION:
URL:https://eastonfarmersmarket.com/event/market-closed-2/
END:VEVENT
BEGIN:VEVENT
DTSTART;TZID=UTC:20220108T100000
DTEND;TZID=UTC:20220108T120000
DTSTAMP:20260421T215214
CREATED:20220104T052153Z
LAST-MODIFIED:20220104T052229Z
UID:8473-1641636000-1641643200@eastonfarmersmarket.com
SUMMARY:Winter Market
DESCRIPTION:Join us in Centre Square 10:00 a.m. – noon 
URL:https://eastonfarmersmarket.com/event/winter-market/
LOCATION:Centre Square Easton\, PA 18042\, Centre Square\, Easton\, PA\, 18042\, United States
END:VEVENT
BEGIN:VEVENT
DTSTART;TZID=UTC:20220115T100000
DTEND;TZID=UTC:20220115T120000
DTSTAMP:20260421T215214
CREATED:20220104T052352Z
LAST-MODIFIED:20220104T054015Z
UID:8476-1642240800-1642248000@eastonfarmersmarket.com
SUMMARY:Winter Market
DESCRIPTION:Join us in Centre Square 10:00 a.m. – noon. Check out our vendors. 
URL:https://eastonfarmersmarket.com/event/winter-market-2/
LOCATION:Centre Square Easton\, PA 18042\, Centre Square\, Easton\, PA\, 18042\, United States
END:VEVENT
BEGIN:VEVENT
DTSTART;TZID=UTC:20220122T100000
DTEND;TZID=UTC:20220122T120000
DTSTAMP:20260421T215214
CREATED:20220104T054215Z
LAST-MODIFIED:20220104T054215Z
UID:8483-1642845600-1642852800@eastonfarmersmarket.com
SUMMARY:Winter Market
DESCRIPTION:Join us 10:00 a.m. – noon. Check out our vendors! 
URL:https://eastonfarmersmarket.com/event/winter-market-3/
LOCATION:Centre Square Easton\, PA 18042\, Centre Square\, Easton\, PA\, 18042\, United States
END:VEVENT
BEGIN:VEVENT
DTSTART;TZID=UTC:20220129T100000
DTEND;TZID=UTC:20220129T120000
DTSTAMP:20260421T215214
CREATED:20220104T054306Z
LAST-MODIFIED:20220127T193626Z
UID:8485-1643450400-1643457600@eastonfarmersmarket.com
SUMMARY:Winter Market Canceled
DESCRIPTION:MARKET CANCELED DUE TO INCLEMENT WEATHER
URL:https://eastonfarmersmarket.com/event/winter-market-4/
LOCATION:Centre Square Easton\, PA 18042\, Centre Square\, Easton\, PA\, 18042\, United States
END:VEVENT
END:VCALENDAR