BEGIN:VCALENDAR
VERSION:2.0
PRODID:-//Easton Farmers&#039; Market - ECPv6.15.18//NONSGML v1.0//EN
CALSCALE:GREGORIAN
METHOD:PUBLISH
X-WR-CALNAME:Easton Farmers&#039; Market
X-ORIGINAL-URL:https://eastonfarmersmarket.com
X-WR-CALDESC:Events for Easton Farmers&#039; Market
REFRESH-INTERVAL;VALUE=DURATION:PT1H
X-Robots-Tag:noindex
X-PUBLISHED-TTL:PT1H
BEGIN:VTIMEZONE
TZID:UTC
BEGIN:STANDARD
TZOFFSETFROM:+0000
TZOFFSETTO:+0000
TZNAME:UTC
DTSTART:20210101T000000
END:STANDARD
END:VTIMEZONE
BEGIN:VEVENT
DTSTART;TZID=UTC:20220129T100000
DTEND;TZID=UTC:20220129T120000
DTSTAMP:20260421T234448
CREATED:20220104T054306Z
LAST-MODIFIED:20220127T193626Z
UID:8485-1643450400-1643457600@eastonfarmersmarket.com
SUMMARY:Winter Market Canceled
DESCRIPTION:MARKET CANCELED DUE TO INCLEMENT WEATHER
URL:https://eastonfarmersmarket.com/event/winter-market-4/
LOCATION:Centre Square Easton\, PA 18042\, Centre Square\, Easton\, PA\, 18042\, United States
END:VEVENT
END:VCALENDAR